BEGIN:VCALENDAR
VERSION:2.0
PRODID:-//Contratero//ES
CALSCALE:GREGORIAN
METHOD:PUBLISH
BEGIN:VEVENT
UID:2022-01000@contratero.es
DTSTAMP:20260423T194811Z
DTSTART:20221202T235959
DTEND:20221203T005959
SUMMARY:Cierre: Adquisición licencias\, mantenimiento\, actualizació
DESCRIPTION:Adquisición licencias\, mantenimiento\, actualización y soporte de software IBM (Acuerdo empresarial de licencias software)\\n\\nOrganismo: Dirección General Económico-Financiera de la Entidad Pública Empresarial RENFE-Operadora\\n\\nVer en Contratero: https://contratero.es/contracts/2022-01000
URL:https://contratero.es/contracts/2022-01000
STATUS:CONFIRMED
BEGIN:VALARM
TRIGGER:-P1D
ACTION:DISPLAY
DESCRIPTION:Recordatorio: Adquisición licencias\, manteni
END:VALARM
END:VEVENT
END:VCALENDAR