BEGIN:VCALENDAR
VERSION:2.0
PRODID:-//Contratero//ES
CALSCALE:GREGORIAN
METHOD:PUBLISH
BEGIN:VEVENT
UID:2022-015-A@contratero.es
DTSTAMP:20260423T214538Z
DTSTART:20220315T235959
DTEND:20220316T005959
SUMMARY:Cierre: Servicio integral de comunicación para el “Mapa de
DESCRIPTION:Servicio integral de comunicación para el “Mapa de recursos comunitarios de Palma para la promoción de la salud” y para otras iniciativas y programas comprendidos en la  ”Estrategia de promoción de la...\\n\\nOrganismo: Junta de Gobierno del Ayuntamiento de Palma de Mallorca\\n\\nVer en Contratero: https://contratero.es/contracts/2022-015-A
URL:https://contratero.es/contracts/2022-015-A
STATUS:CONFIRMED
BEGIN:VALARM
TRIGGER:-P1D
ACTION:DISPLAY
DESCRIPTION:Recordatorio: Servicio integral de comunicac
END:VALARM
END:VEVENT
END:VCALENDAR