BEGIN:VCALENDAR
VERSION:2.0
PRODID:-//Contratero//ES
CALSCALE:GREGORIAN
METHOD:PUBLISH
BEGIN:VEVENT
UID:2022-01550@contratero.es
DTSTAMP:20260423T103228Z
DTSTART:20221219T235959
DTEND:20221220T005959
SUMMARY:Cierre: Servicio wifi para acceso a internet en la sala cl
DESCRIPTION:Servicio wifi para acceso a internet en la sala club de atocha ave\\n\\nOrganismo: Dirección General de Renfe Viajeros Sociedad Mercantil Estatal\, S.A.\\n\\nVer en Contratero: https://contratero.es/contracts/2022-01550
URL:https://contratero.es/contracts/2022-01550
STATUS:CONFIRMED
BEGIN:VALARM
TRIGGER:-P1D
ACTION:DISPLAY
DESCRIPTION:Recordatorio: Servicio wifi para acceso a in
END:VALARM
END:VEVENT
END:VCALENDAR