BEGIN:VCALENDAR
VERSION:2.0
PRODID:-//Contratero//ES
CALSCALE:GREGORIAN
METHOD:PUBLISH
BEGIN:VEVENT
UID:2022-01607@contratero.es
DTSTAMP:20260422T075121Z
DTSTART:20230425T235959
DTEND:20230426T005959
SUMMARY:Cierre: Servicio de mantenimiento hardware\, mantenimiento 
DESCRIPTION:Servicio de mantenimiento hardware\, mantenimiento evolutivo del software y gestión de los sistemas de venta automática de los Núcleos de Cercanías para Renfe Viajeros\, S.M.E.\, S.A.\\n\\nOrganismo: Dirección General de Renfe Viajeros Sociedad Mercantil Estatal\, S.A.\\n\\nVer en Contratero: https://contratero.es/contracts/2022-01607
URL:https://contratero.es/contracts/2022-01607
STATUS:CONFIRMED
BEGIN:VALARM
TRIGGER:-P1D
ACTION:DISPLAY
DESCRIPTION:Recordatorio: Servicio de mantenimiento hard
END:VALARM
END:VEVENT
END:VCALENDAR