BEGIN:VCALENDAR
VERSION:2.0
PRODID:-//Contratero//ES
CALSCALE:GREGORIAN
METHOD:PUBLISH
BEGIN:VEVENT
UID:2022-0176@contratero.es
DTSTAMP:20260423T050710Z
DTSTART:20220831T235959
DTEND:20220901T005959
SUMMARY:Cierre: Contratación del servicio de protección antivirus/
DESCRIPTION:Contratación del servicio de protección antivirus/antimalware y de protección y filtrado del correo electrónico\, con destino a los establecimientos de Paradores de Turismo de España\, S.M.E.\, S.A.\\n\\nOrganismo: Paradores de Turismo de España\, S.M.E.\, S.A.\\n\\nVer en Contratero: https://contratero.es/contracts/2022-0176
URL:https://contratero.es/contracts/2022-0176
STATUS:CONFIRMED
BEGIN:VALARM
TRIGGER:-P1D
ACTION:DISPLAY
DESCRIPTION:Recordatorio: Contratación del servicio de p
END:VALARM
END:VEVENT
END:VCALENDAR