BEGIN:VCALENDAR
VERSION:2.0
PRODID:-//Contratero//ES
CALSCALE:GREGORIAN
METHOD:PUBLISH
BEGIN:VEVENT
UID:2022-04@contratero.es
DTSTAMP:20260422T215236Z
DTSTART:20220801T235959
DTEND:20220802T005959
SUMMARY:Cierre: Gestión de la Plataforma de Teleformación del Cent
DESCRIPTION:Gestión de la Plataforma de Teleformación del Centro\\n\\nOrganismo: Dirección Gerente Centro de Atención a Personas con Enfermedad de Alzheimer y otras demencias (Salamanca)\\n\\nVer en Contratero: https://contratero.es/contracts/2022-04
URL:https://contratero.es/contracts/2022-04
STATUS:CONFIRMED
BEGIN:VALARM
TRIGGER:-P1D
ACTION:DISPLAY
DESCRIPTION:Recordatorio: Gestión de la Plataforma de Te
END:VALARM
END:VEVENT
END:VCALENDAR