BEGIN:VCALENDAR
VERSION:2.0
PRODID:-//Contratero//ES
CALSCALE:GREGORIAN
METHOD:PUBLISH
BEGIN:VEVENT
UID:2022-31@contratero.es
DTSTAMP:20260421T053925Z
DTSTART:20230619T235959
DTEND:20230620T005959
SUMMARY:Cierre: Servicios de consultoría\, desarrollo y oficina de 
DESCRIPTION:Servicios de consultoría\, desarrollo y oficina de proyectos para mejoras y prestaciones adicionales en la plataforma de gestión económico-presupuestaria SOROLLA2 en el marco de la iniciativa de contra...\\n\\nOrganismo: Junta de Contratación de los Servicios Centrales en el Ministerio de Hacienda\\n\\nVer en Contratero: https://contratero.es/contracts/2022-31
URL:https://contratero.es/contracts/2022-31
STATUS:CONFIRMED
BEGIN:VALARM
TRIGGER:-P1D
ACTION:DISPLAY
DESCRIPTION:Recordatorio: Servicios de consultoría\, desa
END:VALARM
END:VEVENT
END:VCALENDAR