BEGIN:VCALENDAR
VERSION:2.0
PRODID:-//Contratero//ES
CALSCALE:GREGORIAN
METHOD:PUBLISH
BEGIN:VEVENT
UID:2022/00050@contratero.es
DTSTAMP:20260421T054023Z
DTSTART:20221116T235959
DTEND:20221117T005959
SUMMARY:Cierre: Suministro de licencias del software Deform 3D/2D
DESCRIPTION:Suministro de licencias del software Deform 3D/2D\\n\\nOrganismo: Rectorado de la Universidad de Córdoba\\n\\nVer en Contratero: https://contratero.es/contracts/2022/00050
URL:https://contratero.es/contracts/2022/00050
STATUS:CONFIRMED
BEGIN:VALARM
TRIGGER:-P1D
ACTION:DISPLAY
DESCRIPTION:Recordatorio: Suministro de licencias del so
END:VALARM
END:VEVENT
END:VCALENDAR