BEGIN:VCALENDAR
VERSION:2.0
PRODID:-//Contratero//ES
CALSCALE:GREGORIAN
METHOD:PUBLISH
BEGIN:VEVENT
UID:2022/000927@contratero.es
DTSTAMP:20260422T035220Z
DTSTART:20221026T235959
DTEND:20221027T005959
SUMMARY:Cierre: Servicio de mantenimiento y soporte técnico de la 
DESCRIPTION:Servicio de mantenimiento y soporte técnico de la Sede Electrónica y del Sistema de Tramitación Electrónica (SAETAS) implantados en el Ayuntamiento de Sevilla (Ref. 17/22).\\n\\nOrganismo: Junta de Gobierno del Ayuntamiento de Sevilla\\n\\nVer en Contratero: https://contratero.es/contracts/2022/000927
URL:https://contratero.es/contracts/2022/000927
STATUS:CONFIRMED
BEGIN:VALARM
TRIGGER:-P1D
ACTION:DISPLAY
DESCRIPTION:Recordatorio: Servicio de mantenimiento y so
END:VALARM
END:VEVENT
END:VCALENDAR