BEGIN:VCALENDAR
VERSION:2.0
PRODID:-//Contratero//ES
CALSCALE:GREGORIAN
METHOD:PUBLISH
BEGIN:VEVENT
UID:2022/005582@contratero.es
DTSTAMP:20260423T212241Z
DTSTART:20221003T235959
DTEND:20221004T005959
SUMMARY:Cierre: Soporte y Mantenimiento Stratio Data Centric
DESCRIPTION:Soporte y Mantenimiento Stratio Data Centric\\n\\nOrganismo: Secretaria General del Servicio de Salud de Castilla-La Mancha\\n\\nVer en Contratero: https://contratero.es/contracts/2022/005582
URL:https://contratero.es/contracts/2022/005582
STATUS:CONFIRMED
BEGIN:VALARM
TRIGGER:-P1D
ACTION:DISPLAY
DESCRIPTION:Recordatorio: Soporte y Mantenimiento Strati
END:VALARM
END:VEVENT
END:VCALENDAR