BEGIN:VCALENDAR
VERSION:2.0
PRODID:-//Contratero//ES
CALSCALE:GREGORIAN
METHOD:PUBLISH
BEGIN:VEVENT
UID:2022/009868@contratero.es
DTSTAMP:20260423T212239Z
DTSTART:20230124T235959
DTEND:20230125T005959
SUMMARY:Cierre: Servicios de soporte\, desarrollo de nuevas funcion
DESCRIPTION:Servicios de soporte\, desarrollo de nuevas funcionalidades\, migración y adaptación a un nuevo entorno tecnológico web para el sistema de recursos humanos y nómina (REHNO) de la JCCM\, cofinanciado con ...\\n\\nOrganismo: Secretaría General de la Consejería de Hacienda y Administraciones Públicas de la Junta de Comunidades de Castilla-La Mancha\\n\\nVer en Contratero: https://contratero.es/contracts/2022/009868
URL:https://contratero.es/contracts/2022/009868
STATUS:CONFIRMED
BEGIN:VALARM
TRIGGER:-P1D
ACTION:DISPLAY
DESCRIPTION:Recordatorio: Servicios de soporte\, desarrol
END:VALARM
END:VEVENT
END:VCALENDAR