BEGIN:VCALENDAR
VERSION:2.0
PRODID:-//Contratero//ES
CALSCALE:GREGORIAN
METHOD:PUBLISH
BEGIN:VEVENT
UID:2022/016017@contratero.es
DTSTAMP:20260423T164036Z
DTSTART:20230124T235959
DTEND:20230125T005959
SUMMARY:Cierre: Desarrollo de la plataforma de digitalización y ex
DESCRIPTION:Desarrollo de la plataforma de digitalización y experiencia turística en Castilla-La Mancha y el análisis del comportamiento turístico. Plan de Recuperación\, Transformación y Resiliencia - Financiado ...\\n\\nOrganismo: Secretaría General de la Consejería de Hacienda\, Administraciones Públicas y Transformación Digital de la Junta de Comunidades de Castilla-La Mancha\\n\\nVer en Contratero: https://contratero.es/contracts/2022/016017
URL:https://contratero.es/contracts/2022/016017
STATUS:CONFIRMED
BEGIN:VALARM
TRIGGER:-P1D
ACTION:DISPLAY
DESCRIPTION:Recordatorio: Desarrollo de la plataforma de
END:VALARM
END:VEVENT
END:VCALENDAR