BEGIN:VCALENDAR
VERSION:2.0
PRODID:-//Contratero//ES
CALSCALE:GREGORIAN
METHOD:PUBLISH
BEGIN:VEVENT
UID:2022/024@contratero.es
DTSTAMP:20260423T210543Z
DTSTART:20220526T235959
DTEND:20220527T005959
SUMMARY:Cierre: Contrato de servicio técnico de administración y m
DESCRIPTION:Contrato de servicio técnico de administración y mantenimiento de los sistemas informáticos del Instituto Municipal del Deporte del Excmo. Ayuntamiento de Cádiz así como sistema de gestión del control...\\n\\nOrganismo: Consejo Rector del Instituto Municipal de Deportes de Cádiz\\n\\nVer en Contratero: https://contratero.es/contracts/2022/024
URL:https://contratero.es/contracts/2022/024
STATUS:CONFIRMED
BEGIN:VALARM
TRIGGER:-P1D
ACTION:DISPLAY
DESCRIPTION:Recordatorio: Contrato de servicio técnico d
END:VALARM
END:VEVENT
END:VCALENDAR