BEGIN:VCALENDAR
VERSION:2.0
PRODID:-//Contratero//ES
CALSCALE:GREGORIAN
METHOD:PUBLISH
BEGIN:VEVENT
UID:2022/0361E@contratero.es
DTSTAMP:20260423T195658Z
DTSTART:20221103T235959
DTEND:20221104T005959
SUMMARY:Cierre: Modernización Elint Scan
DESCRIPTION:Modernización Elint Scan\\n\\nOrganismo: Subdirección General de Adquisiciones de Armamento y Material DGAM\\n\\nVer en Contratero: https://contratero.es/contracts/2022/0361E
URL:https://contratero.es/contracts/2022/0361E
STATUS:CONFIRMED
BEGIN:VALARM
TRIGGER:-P1D
ACTION:DISPLAY
DESCRIPTION:Recordatorio: Modernización Elint Scan
END:VALARM
END:VEVENT
END:VCALENDAR