BEGIN:VCALENDAR
VERSION:2.0
PRODID:-//Contratero//ES
CALSCALE:GREGORIAN
METHOD:PUBLISH
BEGIN:VEVENT
UID:2022/039@contratero.es
DTSTAMP:20260424T031116Z
DTSTART:20220426T235959
DTEND:20220427T005959
SUMMARY:Cierre: servicio de mantenimiento de la aplicación de gest
DESCRIPTION:servicio de mantenimiento de la aplicación de gestión presencial del Excmo. Ayuntamiento de Cádiz\\n\\nOrganismo: Junta de Gobierno del Ayuntamiento de Cádiz\\n\\nVer en Contratero: https://contratero.es/contracts/2022/039
URL:https://contratero.es/contracts/2022/039
STATUS:CONFIRMED
BEGIN:VALARM
TRIGGER:-P1D
ACTION:DISPLAY
DESCRIPTION:Recordatorio: servicio de mantenimiento de l
END:VALARM
END:VEVENT
END:VCALENDAR