BEGIN:VCALENDAR
VERSION:2.0
PRODID:-//Contratero//ES
CALSCALE:GREGORIAN
METHOD:PUBLISH
BEGIN:VEVENT
UID:2022/074/01@contratero.es
DTSTAMP:20260423T180255Z
DTSTART:20221026T235959
DTEND:20221027T005959
SUMMARY:Cierre: Contratación de los servicios de actualización de 
DESCRIPTION:Contratación de los servicios de actualización de versión de la herramienta Glpi existente\, así como la sustitución del agente de inventario OCS actual por el agente Fusion Inventory para Glpi\, todo e...\\n\\nOrganismo: Dirección Gerencia de Mutualia\, Mutua Colaboradora con la Seguridad Social nº 02\\n\\nVer en Contratero: https://contratero.es/contracts/2022/074/01
URL:https://contratero.es/contracts/2022/074/01
STATUS:CONFIRMED
BEGIN:VALARM
TRIGGER:-P1D
ACTION:DISPLAY
DESCRIPTION:Recordatorio: Contratación de los servicios 
END:VALARM
END:VEVENT
END:VCALENDAR