BEGIN:VCALENDAR
VERSION:2.0
PRODID:-//Contratero//ES
CALSCALE:GREGORIAN
METHOD:PUBLISH
BEGIN:VEVENT
UID:2022/08@contratero.es
DTSTAMP:20260420T204953Z
DTSTART:20220223T235959
DTEND:20220224T005959
SUMMARY:Cierre: Servicio de gestión de contenidos municipales onli
DESCRIPTION:Servicio de gestión de contenidos municipales online del Ayuntamiento de Pinto (Madrid)\\n\\nOrganismo: Concejal de Contratación del Ayuntamiento de Pinto\\n\\nVer en Contratero: https://contratero.es/contracts/2022/08
URL:https://contratero.es/contracts/2022/08
STATUS:CONFIRMED
BEGIN:VALARM
TRIGGER:-P1D
ACTION:DISPLAY
DESCRIPTION:Recordatorio: Servicio de gestión de conteni
END:VALARM
END:VEVENT
END:VCALENDAR