BEGIN:VCALENDAR
VERSION:2.0
PRODID:-//Contratero//ES
CALSCALE:GREGORIAN
METHOD:PUBLISH
BEGIN:VEVENT
UID:2022/1472X@contratero.es
DTSTAMP:20260421T092246Z
DTSTART:20220513T235959
DTEND:20220514T005959
SUMMARY:Cierre: Servicio de venta de entradas para los espectáculo
DESCRIPTION:Servicio de venta de entradas para los espectáculos que organice el Ayuntamiento de San Pedro del Pinatar\, mediante la puesta a disposición\, mantenimiento y actualización de las herramientas lógicas q...\\n\\nOrganismo: Junta de Gobierno del Ayuntamiento de San Pedro del Pinatar\\n\\nVer en Contratero: https://contratero.es/contracts/2022/1472X
URL:https://contratero.es/contracts/2022/1472X
STATUS:CONFIRMED
BEGIN:VALARM
TRIGGER:-P1D
ACTION:DISPLAY
DESCRIPTION:Recordatorio: Servicio de venta de entradas 
END:VALARM
END:VEVENT
END:VCALENDAR