BEGIN:VCALENDAR
VERSION:2.0
PRODID:-//Contratero//ES
CALSCALE:GREGORIAN
METHOD:PUBLISH
BEGIN:VEVENT
UID:2022/196@contratero.es
DTSTAMP:20260426T020255Z
DTSTART:20230426T235959
DTEND:20230427T005959
SUMMARY:Cierre: Suministro mediante adquisición de 30 licencias de
DESCRIPTION:Suministro mediante adquisición de 30 licencias de software Citrix virtual Apps y 30 licencias de software Windows Server RDS\\n\\nOrganismo: Junta de Gobierno del Ayuntamiento de Cádiz\\n\\nVer en Contratero: https://contratero.es/contracts/2022/196
URL:https://contratero.es/contracts/2022/196
STATUS:CONFIRMED
BEGIN:VALARM
TRIGGER:-P1D
ACTION:DISPLAY
DESCRIPTION:Recordatorio: Suministro mediante adquisició
END:VALARM
END:VEVENT
END:VCALENDAR