BEGIN:VCALENDAR
VERSION:2.0
PRODID:-//Contratero//ES
CALSCALE:GREGORIAN
METHOD:PUBLISH
BEGIN:VEVENT
UID:2022/34/S020204@contratero.es
DTSTAMP:20260423T044621Z
DTSTART:20221221T235959
DTEND:20221222T005959
SUMMARY:Cierre: Mantenimiento de software I2A-Cronos que gestiona 
DESCRIPTION:Mantenimiento de software I2A-Cronos que gestiona las Escuelas Municipales Culturales\\n\\nOrganismo: Junta de Gobierno Local del Ayuntamiento de Villanueva del Pardillo\\n\\nVer en Contratero: https://contratero.es/contracts/2022/34/S020204
URL:https://contratero.es/contracts/2022/34/S020204
STATUS:CONFIRMED
BEGIN:VALARM
TRIGGER:-P1D
ACTION:DISPLAY
DESCRIPTION:Recordatorio: Mantenimiento de software I2A-
END:VALARM
END:VEVENT
END:VCALENDAR