BEGIN:VCALENDAR
VERSION:2.0
PRODID:-//Contratero//ES
CALSCALE:GREGORIAN
METHOD:PUBLISH
BEGIN:VEVENT
UID:2022/692/00001@contratero.es
DTSTAMP:20260422T215240Z
DTSTART:20220921T235959
DTEND:20220922T005959
SUMMARY:Cierre: Servicio de explotación del registro de reacciones
DESCRIPTION:Servicio de explotación del registro de reacciones cutáneas graves asociadas a medicamentos para la identificación y análisis de señales de farmacovigilancia\\n\\nOrganismo: Secretaría General de la Agencia Española de Medicamentos y Productos Sanitarios\\n\\nVer en Contratero: https://contratero.es/contracts/2022/692/00001
URL:https://contratero.es/contracts/2022/692/00001
STATUS:CONFIRMED
BEGIN:VALARM
TRIGGER:-P1D
ACTION:DISPLAY
DESCRIPTION:Recordatorio: Servicio de explotación del re
END:VALARM
END:VEVENT
END:VCALENDAR