BEGIN:VCALENDAR
VERSION:2.0
PRODID:-//Contratero//ES
CALSCALE:GREGORIAN
METHOD:PUBLISH
BEGIN:VEVENT
UID:2022/692/00005@contratero.es
DTSTAMP:20260422T215242Z
DTSTART:20220923T235959
DTEND:20220924T005959
SUMMARY:Cierre: Servicio de explotación del registro español de he
DESCRIPTION:Servicio de explotación del registro español de hepatotoxicidad para el estudio de casos de hepatopatías en la población asociadas a medicamentos.\\n\\nOrganismo: Secretaría General de la Agencia Española de Medicamentos y Productos Sanitarios\\n\\nVer en Contratero: https://contratero.es/contracts/2022/692/00005
URL:https://contratero.es/contracts/2022/692/00005
STATUS:CONFIRMED
BEGIN:VALARM
TRIGGER:-P1D
ACTION:DISPLAY
DESCRIPTION:Recordatorio: Servicio de explotación del re
END:VALARM
END:VEVENT
END:VCALENDAR