BEGIN:VCALENDAR
VERSION:2.0
PRODID:-//Contratero//ES
CALSCALE:GREGORIAN
METHOD:PUBLISH
BEGIN:VEVENT
UID:2022/7202@contratero.es
DTSTAMP:20260423T131714Z
DTSTART:20230303T235959
DTEND:20230304T005959
SUMMARY:Cierre: Servicios informáticos necesarios para dar soporte
DESCRIPTION:Servicios informáticos necesarios para dar soporte a la Gerencia de Informática de la Seguridad Social en la realización de estudios\, diseños y apoyo técnico a la innovación de los sistemas de informa...\\n\\nOrganismo: Gerencia de Informática de la Seguridad Social\\n\\nVer en Contratero: https://contratero.es/contracts/2022/7202
URL:https://contratero.es/contracts/2022/7202
STATUS:CONFIRMED
BEGIN:VALARM
TRIGGER:-P1D
ACTION:DISPLAY
DESCRIPTION:Recordatorio: Servicios informáticos necesar
END:VALARM
END:VEVENT
END:VCALENDAR