BEGIN:VCALENDAR
VERSION:2.0
PRODID:-//Contratero//ES
CALSCALE:GREGORIAN
METHOD:PUBLISH
BEGIN:VEVENT
UID:2022/7647K@contratero.es
DTSTAMP:20260421T054023Z
DTSTART:20230522T235959
DTEND:20230523T005959
SUMMARY:Cierre: Contrato de servicio a precio hora unitario del se
DESCRIPTION:Contrato de servicio a precio hora unitario del servicio de análisis\, diseño\, desarrollo e implantación de aplicaciones web para la creación de un sistema de información de contabilidad\, intervención ...\\n\\nOrganismo: Concejalía de Hacienda del Ayuntamiento de Benalmádena\\n\\nVer en Contratero: https://contratero.es/contracts/2022/7647K
URL:https://contratero.es/contracts/2022/7647K
STATUS:CONFIRMED
BEGIN:VALARM
TRIGGER:-P1D
ACTION:DISPLAY
DESCRIPTION:Recordatorio: Contrato de servicio a precio 
END:VALARM
END:VEVENT
END:VCALENDAR