BEGIN:VCALENDAR
VERSION:2.0
PRODID:-//Contratero//ES
CALSCALE:GREGORIAN
METHOD:PUBLISH
BEGIN:VEVENT
UID:2022/CONTRAT/000165@contratero.es
DTSTAMP:20260423T134041Z
DTSTART:20221220T235959
DTEND:20221221T005959
SUMMARY:Cierre: Renovación y mejora de la infraestructura de proce
DESCRIPTION:Renovación y mejora de la infraestructura de proceso de datos del Ayuntamiento de Oleiros\\n\\nOrganismo: Alcaldía del Ayuntamiento de Oleiros\\n\\nVer en Contratero: https://contratero.es/contracts/2022/CONTRAT/000165
URL:https://contratero.es/contracts/2022/CONTRAT/000165
STATUS:CONFIRMED
BEGIN:VALARM
TRIGGER:-P1D
ACTION:DISPLAY
DESCRIPTION:Recordatorio: Renovación y mejora de la infr
END:VALARM
END:VEVENT
END:VCALENDAR