BEGIN:VCALENDAR
VERSION:2.0
PRODID:-//Contratero//ES
CALSCALE:GREGORIAN
METHOD:PUBLISH
BEGIN:VEVENT
UID:2022/CTT_01/000026@contratero.es
DTSTAMP:20260423T103324Z
DTSTART:20220411T235959
DTEND:20220412T005959
SUMMARY:Cierre: Servicio para: “Desarrollo web y APP Híbrida con f
DESCRIPTION:Servicio para: “Desarrollo web y APP Híbrida con fines turísticos\, y escaneado 3D de la iglesia San Juan de Marchena”\, dirigidas al fomento de la implantación de las tecnologías de la información y la...\\n\\nOrganismo: Alcaldía del Ayuntamiento de Marchena\\n\\nVer en Contratero: https://contratero.es/contracts/2022/CTT_01/000026
URL:https://contratero.es/contracts/2022/CTT_01/000026
STATUS:CONFIRMED
BEGIN:VALARM
TRIGGER:-P1D
ACTION:DISPLAY
DESCRIPTION:Recordatorio: Servicio para: “Desarrollo web
END:VALARM
END:VEVENT
END:VCALENDAR