BEGIN:VCALENDAR
VERSION:2.0
PRODID:-//Contratero//ES
CALSCALE:GREGORIAN
METHOD:PUBLISH
BEGIN:VEVENT
UID:2022/D22200/006-303/00001@contratero.es
DTSTAMP:20260422T221710Z
DTSTART:20220711T235959
DTEND:20220712T005959
SUMMARY:Cierre: Contratación del servicio del soporte y mantenimie
DESCRIPTION:Contratación del servicio del soporte y mantenimiento de Licencias ARGOS\, herramienta utilizada por la Sección de Encuesta de Infraestructura y Equipamiento Local\\n\\nOrganismo: Junta de Gobierno de la Diputación Provincial de Almería\\n\\nVer en Contratero: https://contratero.es/contracts/2022/D22200/006-303/00001
URL:https://contratero.es/contracts/2022/D22200/006-303/00001
STATUS:CONFIRMED
BEGIN:VALARM
TRIGGER:-P1D
ACTION:DISPLAY
DESCRIPTION:Recordatorio: Contratación del servicio del 
END:VALARM
END:VEVENT
END:VCALENDAR