BEGIN:VCALENDAR
VERSION:2.0
PRODID:-//Contratero//ES
CALSCALE:GREGORIAN
METHOD:PUBLISH
BEGIN:VEVENT
UID:2022/D22200/006-303/00002@contratero.es
DTSTAMP:20260422T154359Z
DTSTART:20220530T235959
DTEND:20220531T005959
SUMMARY:Cierre: Contratación del servicio de asistencia y asesoram
DESCRIPTION:Contratación del servicio de asistencia y asesoramiento en materia de gestión patrimonial para el uso de la aplicación informática GPA\\n\\nOrganismo: Junta de Gobierno de la Diputación Provincial de Almería\\n\\nVer en Contratero: https://contratero.es/contracts/2022/D22200/006-303/00002
URL:https://contratero.es/contracts/2022/D22200/006-303/00002
STATUS:CONFIRMED
BEGIN:VALARM
TRIGGER:-P1D
ACTION:DISPLAY
DESCRIPTION:Recordatorio: Contratación del servicio de a
END:VALARM
END:VEVENT
END:VCALENDAR