BEGIN:VCALENDAR
VERSION:2.0
PRODID:-//Contratero//ES
CALSCALE:GREGORIAN
METHOD:PUBLISH
BEGIN:VEVENT
UID:2022/ES/16@contratero.es
DTSTAMP:20260425T163422Z
DTSTART:20220926T235959
DTEND:20220927T005959
SUMMARY:Cierre: Suscripción a una aplicación para la gestión de PR
DESCRIPTION:Suscripción a una aplicación para la gestión de PRL\\n\\nOrganismo: Centro Nacional de Investigaciones Cardiovasculares Carlos III (F.S.P.)\\n\\nVer en Contratero: https://contratero.es/contracts/2022/ES/16
URL:https://contratero.es/contracts/2022/ES/16
STATUS:CONFIRMED
BEGIN:VALARM
TRIGGER:-P1D
ACTION:DISPLAY
DESCRIPTION:Recordatorio: Suscripción a una aplicación p
END:VALARM
END:VEVENT
END:VCALENDAR