BEGIN:VCALENDAR
VERSION:2.0
PRODID:-//Contratero//ES
CALSCALE:GREGORIAN
METHOD:PUBLISH
BEGIN:VEVENT
UID:2022/ETSAE0904/00000516E@contratero.es
DTSTAMP:20260423T135810Z
DTSTART:20220922T235959
DTEND:20220923T005959
SUMMARY:Cierre: Servicio de actualización de la aplicación de nave
DESCRIPTION:Servicio de actualización de la aplicación de navegación para dispositivos ANDROID\\n\\nOrganismo: Sección de Asuntos Económicos de la Jefatura Sistemas de Información\, Telecomunicaciones y Asistencia Técnica\\n\\nVer en Contratero: https://contratero.es/contracts/2022/ETSAE0904/00000516E
URL:https://contratero.es/contracts/2022/ETSAE0904/00000516E
STATUS:CONFIRMED
BEGIN:VALARM
TRIGGER:-P1D
ACTION:DISPLAY
DESCRIPTION:Recordatorio: Servicio de actualización de l
END:VALARM
END:VEVENT
END:VCALENDAR