BEGIN:VCALENDAR
VERSION:2.0
PRODID:-//Contratero//ES
CALSCALE:GREGORIAN
METHOD:PUBLISH
BEGIN:VEVENT
UID:2022/PAS/001@contratero.es
DTSTAMP:20260423T084922Z
DTSTART:20220907T235959
DTEND:20220908T005959
SUMMARY:Cierre: La prestación de los servicios de hosting mantenim
DESCRIPTION:La prestación de los servicios de hosting mantenimiento\, soporte y desarrollo web del Consorcio de Investigación Biomédica en Red (CIBER) que se han de desarrollar por las nuevas incorporaciones de CI...\\n\\nOrganismo: Gerencia del Centro de Investigación Biomédica en Red (CIBER)\\n\\nVer en Contratero: https://contratero.es/contracts/2022/PAS/001
URL:https://contratero.es/contracts/2022/PAS/001
STATUS:CONFIRMED
BEGIN:VALARM
TRIGGER:-P1D
ACTION:DISPLAY
DESCRIPTION:Recordatorio: La prestación de los servicios
END:VALARM
END:VEVENT
END:VCALENDAR