BEGIN:VCALENDAR
VERSION:2.0
PRODID:-//Contratero//ES
CALSCALE:GREGORIAN
METHOD:PUBLISH
BEGIN:VEVENT
UID:2022/PASA/013@contratero.es
DTSTAMP:20260420T155424Z
DTSTART:20220922T235959
DTEND:20220923T005959
SUMMARY:Cierre: Servicios Web (Newsletter\, Apple Developer y Googl
DESCRIPTION:Servicios Web (Newsletter\, Apple Developer y Google)\\n\\nOrganismo: Junta de Gobierno del Ayuntamiento de Pozuelo de Alarcón\\n\\nVer en Contratero: https://contratero.es/contracts/2022/PASA/013
URL:https://contratero.es/contracts/2022/PASA/013
STATUS:CONFIRMED
BEGIN:VALARM
TRIGGER:-P1D
ACTION:DISPLAY
DESCRIPTION:Recordatorio: Servicios Web (Newsletter\, App
END:VALARM
END:VEVENT
END:VCALENDAR