BEGIN:VCALENDAR
VERSION:2.0
PRODID:-//Contratero//ES
CALSCALE:GREGORIAN
METHOD:PUBLISH
BEGIN:VEVENT
UID:2022/SSS/000007@contratero.es
DTSTAMP:20260420T172944Z
DTSTART:20220816T235959
DTEND:20220817T005959
SUMMARY:Cierre: Servicio para el desarrollo de una plataforma web 
DESCRIPTION:Servicio para el desarrollo de una plataforma web y de una APP para la reactivación  de los sectores del comercio y la hostelería\\n\\nOrganismo: Alcaldía del Ayuntamiento de Algeciras\\n\\nVer en Contratero: https://contratero.es/contracts/2022/SSS/000007
URL:https://contratero.es/contracts/2022/SSS/000007
STATUS:CONFIRMED
BEGIN:VALARM
TRIGGER:-P1D
ACTION:DISPLAY
DESCRIPTION:Recordatorio: Servicio para el desarrollo de
END:VALARM
END:VEVENT
END:VCALENDAR