BEGIN:VCALENDAR
VERSION:2.0
PRODID:-//Contratero//ES
CALSCALE:GREGORIAN
METHOD:PUBLISH
BEGIN:VEVENT
UID:2022/UE/014@contratero.es
DTSTAMP:20260423T093553Z
DTSTART:20230315T235959
DTEND:20230316T005959
SUMMARY:Cierre: Suministro de servidores\, sistemas de almacenamien
DESCRIPTION:Suministro de servidores\, sistemas de almacenamiento y software especializado para computación de alto rendimiento.\\n\\nOrganismo: Gerencia del Centro de Investigación Biomédica en Red (CIBER)\\n\\nVer en Contratero: https://contratero.es/contracts/2022/UE/014
URL:https://contratero.es/contracts/2022/UE/014
STATUS:CONFIRMED
BEGIN:VALARM
TRIGGER:-P1D
ACTION:DISPLAY
DESCRIPTION:Recordatorio: Suministro de servidores\, sist
END:VALARM
END:VEVENT
END:VCALENDAR