BEGIN:VCALENDAR
VERSION:2.0
PRODID:-//Contratero//ES
CALSCALE:GREGORIAN
METHOD:PUBLISH
BEGIN:VEVENT
UID:2022/fgucm01@contratero.es
DTSTAMP:20260420T172858Z
DTSTART:20220301T235959
DTEND:20220302T005959
SUMMARY:Cierre: contratación de los servicios de implantación una 
DESCRIPTION:contratación de los servicios de implantación una aplicación móvil para la fundación general de la ucm\, mp\\n\\nOrganismo: Dirección General de la Fundación General de la Universidad Complutense de Madrid\, M.P.\\n\\nVer en Contratero: https://contratero.es/contracts/2022/fgucm01
URL:https://contratero.es/contracts/2022/fgucm01
STATUS:CONFIRMED
BEGIN:VALARM
TRIGGER:-P1D
ACTION:DISPLAY
DESCRIPTION:Recordatorio: contratación de los servicios 
END:VALARM
END:VEVENT
END:VCALENDAR