BEGIN:VCALENDAR
VERSION:2.0
PRODID:-//Contratero//ES
CALSCALE:GREGORIAN
METHOD:PUBLISH
BEGIN:VEVENT
UID:202200000235@contratero.es
DTSTAMP:20260423T212255Z
DTSTART:20230124T235959
DTEND:20230125T005959
SUMMARY:Cierre: Servicio Mantenimiento\, Desarrollo y Parametrizaci
DESCRIPTION:Servicio Mantenimiento\, Desarrollo y Parametrización del Sistema Integrado RRHH de la Agencia Estatal de Meteorología\\n\\nOrganismo: Presidencia de la Agencia Estatal de Meteorología\\n\\nVer en Contratero: https://contratero.es/contracts/202200000235
URL:https://contratero.es/contracts/202200000235
STATUS:CONFIRMED
BEGIN:VALARM
TRIGGER:-P1D
ACTION:DISPLAY
DESCRIPTION:Recordatorio: Servicio Mantenimiento\, Desarr
END:VALARM
END:VEVENT
END:VCALENDAR