BEGIN:VCALENDAR
VERSION:2.0
PRODID:-//Contratero//ES
CALSCALE:GREGORIAN
METHOD:PUBLISH
BEGIN:VEVENT
UID:2022000222@contratero.es
DTSTAMP:20260423T212208Z
DTSTART:20220901T235959
DTEND:20220902T005959
SUMMARY:Cierre: Suministro de servidores para la administración de
DESCRIPTION:Suministro de servidores para la administración del Principado de Asturias así como servicios de configuración\, instalación y migración de servicios.\\n\\nOrganismo: Consejería de Presidencia\\n\\nVer en Contratero: https://contratero.es/contracts/2022000222
URL:https://contratero.es/contracts/2022000222
STATUS:CONFIRMED
BEGIN:VALARM
TRIGGER:-P1D
ACTION:DISPLAY
DESCRIPTION:Recordatorio: Suministro de servidores para 
END:VALARM
END:VEVENT
END:VCALENDAR