BEGIN:VCALENDAR
VERSION:2.0
PRODID:-//Contratero//ES
CALSCALE:GREGORIAN
METHOD:PUBLISH
BEGIN:VEVENT
UID:2022000389@contratero.es
DTSTAMP:20260423T180407Z
DTSTART:20221003T235959
DTEND:20221004T005959
SUMMARY:Cierre: Infraestructuras_ software para la gestión automat
DESCRIPTION:Infraestructuras_ software para la gestión automatizada de las taquillas del HUCA\\n\\nOrganismo: Servicio de Salud - Servicios Centrales\\n\\nVer en Contratero: https://contratero.es/contracts/2022000389
URL:https://contratero.es/contracts/2022000389
STATUS:CONFIRMED
BEGIN:VALARM
TRIGGER:-P1D
ACTION:DISPLAY
DESCRIPTION:Recordatorio: Infraestructuras_ software par
END:VALARM
END:VEVENT
END:VCALENDAR