BEGIN:VCALENDAR
VERSION:2.0
PRODID:-//Contratero//ES
CALSCALE:GREGORIAN
METHOD:PUBLISH
BEGIN:VEVENT
UID:2022000416@contratero.es
DTSTAMP:20260422T062810Z
DTSTART:20221018T235959
DTEND:20221019T005959
SUMMARY:Cierre: Servicios de definición e implantación de un model
DESCRIPTION:Servicios de definición e implantación de un modelo de gobierno del dato\, BI y analítica avanzada para la Administración del Principado de Asturias\\n\\nOrganismo: Consejería de Presidencia\, Reto Demográfico\, Igualdad y Turismo del Principado de Asturias\\n\\nVer en Contratero: https://contratero.es/contracts/2022000416
URL:https://contratero.es/contracts/2022000416
STATUS:CONFIRMED
BEGIN:VALARM
TRIGGER:-P1D
ACTION:DISPLAY
DESCRIPTION:Recordatorio: Servicios de definición e impl
END:VALARM
END:VEVENT
END:VCALENDAR