BEGIN:VCALENDAR
VERSION:2.0
PRODID:-//Contratero//ES
CALSCALE:GREGORIAN
METHOD:PUBLISH
BEGIN:VEVENT
UID:202200210@contratero.es
DTSTAMP:20260423T062728Z
DTSTART:20220523T235959
DTEND:20220524T005959
SUMMARY:Cierre: Suministro de licenciamiento de software (2ª Licit
DESCRIPTION:Suministro de licenciamiento de software (2ª Licitación)\\n\\nOrganismo: Consejo de Administración de Medio Ambiente\, Agua\, Residuos y Energía de Cantabria\, S.A.(MARE S.A.)\\n\\nVer en Contratero: https://contratero.es/contracts/202200210
URL:https://contratero.es/contracts/202200210
STATUS:CONFIRMED
BEGIN:VALARM
TRIGGER:-P1D
ACTION:DISPLAY
DESCRIPTION:Recordatorio: Suministro de licenciamiento d
END:VALARM
END:VEVENT
END:VCALENDAR