BEGIN:VCALENDAR
VERSION:2.0
PRODID:-//Contratero//ES
CALSCALE:GREGORIAN
METHOD:PUBLISH
BEGIN:VEVENT
UID:2022086@contratero.es
DTSTAMP:20260424T221425Z
DTSTART:20220627T235959
DTEND:20220628T005959
SUMMARY:Cierre: Servicio de apoyo al mantenimiento de equipos info
DESCRIPTION:Servicio de apoyo al mantenimiento de equipos informáticos y sistemas de información\, así como asesoramiento tecnológico para el IFOC\\n\\nOrganismo: Tenencia de Alcaldía de Educación y Ocupación del Ajuntament de Calvià\\n\\nVer en Contratero: https://contratero.es/contracts/2022086
URL:https://contratero.es/contracts/2022086
STATUS:CONFIRMED
BEGIN:VALARM
TRIGGER:-P1D
ACTION:DISPLAY
DESCRIPTION:Recordatorio: Servicio de apoyo al mantenimi
END:VALARM
END:VEVENT
END:VCALENDAR