BEGIN:VCALENDAR
VERSION:2.0
PRODID:-//Contratero//ES
CALSCALE:GREGORIAN
METHOD:PUBLISH
BEGIN:VEVENT
UID:202211221001@contratero.es
DTSTAMP:20260423T194056Z
DTSTART:20220801T235959
DTEND:20220802T005959
SUMMARY:Cierre: “Servicio de Soporte del Sistema Integrado de Gest
DESCRIPTION:“Servicio de Soporte del Sistema Integrado de Gestión Bibliotecaria KOHA y Mantenimiento Web para el Catálogo Colectivo del Organismo Autónomo Parques Nacionales (OAPN)”\\n\\nOrganismo: Organismo Autónomo Parques Nacionales\\n\\nVer en Contratero: https://contratero.es/contracts/202211221001
URL:https://contratero.es/contracts/202211221001
STATUS:CONFIRMED
BEGIN:VALARM
TRIGGER:-P1D
ACTION:DISPLAY
DESCRIPTION:Recordatorio: “Servicio de Soporte del Siste
END:VALARM
END:VEVENT
END:VCALENDAR