BEGIN:VCALENDAR
VERSION:2.0
PRODID:-//Contratero//ES
CALSCALE:GREGORIAN
METHOD:PUBLISH
BEGIN:VEVENT
UID:2022196@contratero.es
DTSTAMP:20260419T214331Z
DTSTART:20221207T235959
DTEND:20221208T005959
SUMMARY:Cierre: Servicio venta en línea de localidades/taquilla en
DESCRIPTION:Servicio venta en línea de localidades/taquilla en espectáculos\, acontecimientos y actividades del Área de Cultura\\n\\nOrganismo: Tenencia de Alcaldía de Cohesión Social\, Comunicación y Policía Local del Ajuntament de Calvià\\n\\nVer en Contratero: https://contratero.es/contracts/2022196
URL:https://contratero.es/contracts/2022196
STATUS:CONFIRMED
BEGIN:VALARM
TRIGGER:-P1D
ACTION:DISPLAY
DESCRIPTION:Recordatorio: Servicio venta en línea de loc
END:VALARM
END:VEVENT
END:VCALENDAR