BEGIN:VCALENDAR
VERSION:2.0
PRODID:-//Contratero//ES
CALSCALE:GREGORIAN
METHOD:PUBLISH
BEGIN:VEVENT
UID:2022N4057001@contratero.es
DTSTAMP:20260422T114537Z
DTSTART:20221216T235959
DTEND:20221217T005959
SUMMARY:Cierre: Dirección\, coordinación\, recogida de datos y análi
DESCRIPTION:Dirección\, coordinación\, recogida de datos y análisis de la encuesta de construcción de Paridades de Poder Adquisitivo\\n\\nOrganismo: Instituto Nacional de Estadística INE\\n\\nVer en Contratero: https://contratero.es/contracts/2022N4057001
URL:https://contratero.es/contracts/2022N4057001
STATUS:CONFIRMED
BEGIN:VALARM
TRIGGER:-P1D
ACTION:DISPLAY
DESCRIPTION:Recordatorio: Dirección\, coordinación\, recog
END:VALARM
END:VEVENT
END:VCALENDAR