BEGIN:VCALENDAR
VERSION:2.0
PRODID:-//Contratero//ES
CALSCALE:GREGORIAN
METHOD:PUBLISH
BEGIN:VEVENT
UID:2022NCC001@contratero.es
DTSTAMP:20260424T074411Z
DTSTART:20220331T235959
DTEND:20220401T005959
SUMMARY:Cierre: Suscripción\, renovación y mantenimiento de licenci
DESCRIPTION:Suscripción\, renovación y mantenimiento de licencias de diversos productos software del Sistema de Información Geográfica de IAM (Informática del Ayuntamiento de Madrid)\\n\\nOrganismo: Organismo Autónomo Informática del Ayuntamiento de Madrid\\n\\nVer en Contratero: https://contratero.es/contracts/2022NCC001
URL:https://contratero.es/contracts/2022NCC001
STATUS:CONFIRMED
BEGIN:VALARM
TRIGGER:-P1D
ACTION:DISPLAY
DESCRIPTION:Recordatorio: Suscripción\, renovación y mant
END:VALARM
END:VEVENT
END:VCALENDAR