BEGIN:VCALENDAR
VERSION:2.0
PRODID:-//Contratero//ES
CALSCALE:GREGORIAN
METHOD:PUBLISH
BEGIN:VEVENT
UID:2022PA004253@contratero.es
DTSTAMP:20260423T212209Z
DTSTART:20221109T235959
DTEND:20221110T005959
SUMMARY:Cierre: Servicio de desarrollo de Geiser V2
DESCRIPTION:Servicio de desarrollo de Geiser V2\\n\\nOrganismo: Junta de Contratación del Ministerio de Asuntos Económicos y Transformación Digital\\n\\nVer en Contratero: https://contratero.es/contracts/2022PA004253
URL:https://contratero.es/contracts/2022PA004253
STATUS:CONFIRMED
BEGIN:VALARM
TRIGGER:-P1D
ACTION:DISPLAY
DESCRIPTION:Recordatorio: Servicio de desarrollo de Geis
END:VALARM
END:VEVENT
END:VCALENDAR