BEGIN:VCALENDAR
VERSION:2.0
PRODID:-//Contratero//ES
CALSCALE:GREGORIAN
METHOD:PUBLISH
BEGIN:VEVENT
UID:2022_007@contratero.es
DTSTAMP:20260423T035144Z
DTSTART:20220405T235959
DTEND:20220406T005959
SUMMARY:Cierre: Servicio de desarrollo\, asistencia técnica y mante
DESCRIPTION:Servicio de desarrollo\, asistencia técnica y mantenimiento del repositorio institucional UMH REDIUMH.\\n\\nOrganismo: Rectorado de la Universidad Miguel Hernández de Elche\\n\\nVer en Contratero: https://contratero.es/contracts/2022_007
URL:https://contratero.es/contracts/2022_007
STATUS:CONFIRMED
BEGIN:VALARM
TRIGGER:-P1D
ACTION:DISPLAY
DESCRIPTION:Recordatorio: Servicio de desarrollo\, asiste
END:VALARM
END:VEVENT
END:VCALENDAR