BEGIN:VCALENDAR
VERSION:2.0
PRODID:-//Contratero//ES
CALSCALE:GREGORIAN
METHOD:PUBLISH
BEGIN:VEVENT
UID:2022_030@contratero.es
DTSTAMP:20260424T001249Z
DTSTART:20220607T235959
DTEND:20220608T005959
SUMMARY:Cierre: Servicio de soporte y garantía del software de ges
DESCRIPTION:Servicio de soporte y garantía del software de gestión de red wifi airwave para la Universidad Miguel Hernández de Elche\\n\\nOrganismo: Rectorado de la Universidad Miguel Hernández de Elche\\n\\nVer en Contratero: https://contratero.es/contracts/2022_030
URL:https://contratero.es/contracts/2022_030
STATUS:CONFIRMED
BEGIN:VALARM
TRIGGER:-P1D
ACTION:DISPLAY
DESCRIPTION:Recordatorio: Servicio de soporte y garantía
END:VALARM
END:VEVENT
END:VCALENDAR