BEGIN:VCALENDAR
VERSION:2.0
PRODID:-//Contratero//ES
CALSCALE:GREGORIAN
METHOD:PUBLISH
BEGIN:VEVENT
UID:2023-00041@contratero.es
DTSTAMP:20260421T202109Z
DTSTART:20230315T235959
DTEND:20230316T005959
SUMMARY:Cierre: Servicio de desarrollo arquitectura DOCKS.NET. Cla
DESCRIPTION:Servicio de desarrollo arquitectura DOCKS.NET. Clave de expediente: 2023R340015.\\n\\nOrganismo: Presidencia del Consejo de Administración de la Autoridad Portuaria de Barcelona (PORT DE BARCELONA)\\n\\nVer en Contratero: https://contratero.es/contracts/2023-00041
URL:https://contratero.es/contracts/2023-00041
STATUS:CONFIRMED
BEGIN:VALARM
TRIGGER:-P1D
ACTION:DISPLAY
DESCRIPTION:Recordatorio: Servicio de desarrollo arquite
END:VALARM
END:VEVENT
END:VCALENDAR