BEGIN:VCALENDAR
VERSION:2.0
PRODID:-//Contratero//ES
CALSCALE:GREGORIAN
METHOD:PUBLISH
BEGIN:VEVENT
UID:2023-00145@contratero.es
DTSTAMP:20260419T183732Z
DTSTART:20230214T235959
DTEND:20230215T005959
SUMMARY:Cierre: Contratación de  servicios de consultoría en admin
DESCRIPTION:Contratación de  servicios de consultoría en administración de sistemas TIC – Windows y virtualización\\n\\nOrganismo: Consejero Delegado de Ingeniería de Sistemas para la Defensa de España S.A.\, S.M.E. y M.P.\\n\\nVer en Contratero: https://contratero.es/contracts/2023-00145
URL:https://contratero.es/contracts/2023-00145
STATUS:CONFIRMED
BEGIN:VALARM
TRIGGER:-P1D
ACTION:DISPLAY
DESCRIPTION:Recordatorio: Contratación de  servicios de 
END:VALARM
END:VEVENT
END:VCALENDAR